BEGIN:VCALENDAR
VERSION:2.0
PRODID:-//Plone.org//NONSGML plone.app.event//EN
X-WR-TIMEZONE:Europe/Berlin
BEGIN:VEVENT
SUMMARY:politopia-magazin Redaktionstreffen
DTSTART;TZID=Europe/Berlin;VALUE=DATE-TIME:20210526T180000
DTEND;TZID=Europe/Berlin;VALUE=DATE-TIME:20210526T213000
DTSTAMP;VALUE=DATE-TIME:20260425T214759Z
UID:5eea129a66794205844e53945e0739ab@politopiamagazin.de
CREATED;VALUE=DATE-TIME:20210515T195932Z
DESCRIPTION:Alle
LAST-MODIFIED;VALUE=DATE-TIME:20210515T203446Z
URL:https://politopiamagazin.de/Members/radio/termine/politopia-magazin-re
 daktionstreffen
END:VEVENT
BEGIN:VTIMEZONE
TZID:Europe/Berlin
X-LIC-LOCATION:Europe/Berlin
BEGIN:DAYLIGHT
DTSTART;VALUE=DATE-TIME:20210328T030000
TZNAME:CEST
TZOFFSETFROM:+0100
TZOFFSETTO:+0200
END:DAYLIGHT
END:VTIMEZONE
END:VCALENDAR
