BEGIN:VCALENDAR
VERSION:2.0
PRODID:-//Plone.org//NONSGML plone.app.event//EN
X-WR-TIMEZONE:Europe/Berlin
BEGIN:VEVENT
SUMMARY:politopia-magazin Redaktionstreffen
DTSTART;TZID=Europe/Berlin;VALUE=DATE-TIME:20240306T183000
DTEND;TZID=Europe/Berlin;VALUE=DATE-TIME:20240306T203000
DTSTAMP;VALUE=DATE-TIME:20260425T022958Z
UID:9a057177531b4a78abee0f0e82676e3a@politopiamagazin.de
CREATED;VALUE=DATE-TIME:20240119T001155Z
DESCRIPTION:Alle
LAST-MODIFIED;VALUE=DATE-TIME:20240123T002419Z
URL:https://politopiamagazin.de/Members/radio/termine/politopia-magazin-re
 daktionstreffen-20
END:VEVENT
BEGIN:VTIMEZONE
TZID:Europe/Berlin
X-LIC-LOCATION:Europe/Berlin
BEGIN:STANDARD
DTSTART;VALUE=DATE-TIME:20231029T020000
TZNAME:CET
TZOFFSETFROM:+0200
TZOFFSETTO:+0100
END:STANDARD
END:VTIMEZONE
END:VCALENDAR
