BEGIN:VCALENDAR
VERSION:2.0
PRODID:-//Plone.org//NONSGML plone.app.event//EN
X-WR-TIMEZONE:Europe/Berlin
BEGIN:VEVENT
SUMMARY:politopia-magazin Redaktionstreffen
DTSTART;TZID=Europe/Berlin;VALUE=DATE-TIME:20230315T183000
DTEND;TZID=Europe/Berlin;VALUE=DATE-TIME:20230315T193000
DTSTAMP;VALUE=DATE-TIME:20260424T232340Z
UID:e069ba6563a04200bc5a3c6e3e659057@politopiamagazin.de
CREATED;VALUE=DATE-TIME:20230118T233839Z
DESCRIPTION:Alle
LAST-MODIFIED;VALUE=DATE-TIME:20230308T172945Z
URL:https://politopiamagazin.de/Members/radio/termine/politopia-magazin-re
 daktionstreffen-14
END:VEVENT
BEGIN:VTIMEZONE
TZID:Europe/Berlin
X-LIC-LOCATION:Europe/Berlin
BEGIN:STANDARD
DTSTART;VALUE=DATE-TIME:20221030T020000
TZNAME:CET
TZOFFSETFROM:+0200
TZOFFSETTO:+0100
END:STANDARD
END:VTIMEZONE
END:VCALENDAR
