BEGIN:VCALENDAR
VERSION:2.0
PRODID:-//Plone.org//NONSGML plone.app.event//EN
X-WR-TIMEZONE:Europe/Berlin
BEGIN:VEVENT
SUMMARY:politopia-magazin
DTSTART;TZID=Europe/Berlin;VALUE=DATE-TIME:20230614T160000
DTEND;TZID=Europe/Berlin;VALUE=DATE-TIME:20230614T170000
DTSTAMP;VALUE=DATE-TIME:20260421T070115Z
UID:fad3e307edaf46a2b8c11ab836e6b58d@politopiamagazin.de
CREATED;VALUE=DATE-TIME:20230531T150212Z
DESCRIPTION:N. N.
LAST-MODIFIED;VALUE=DATE-TIME:20230531T150216Z
URL:https://politopiamagazin.de/Members/radio/termine/politopia-magazin-98
END:VEVENT
BEGIN:VTIMEZONE
TZID:Europe/Berlin
X-LIC-LOCATION:Europe/Berlin
BEGIN:DAYLIGHT
DTSTART;VALUE=DATE-TIME:20230326T030000
TZNAME:CEST
TZOFFSETFROM:+0100
TZOFFSETTO:+0200
END:DAYLIGHT
END:VTIMEZONE
END:VCALENDAR
