BEGIN:VCALENDAR
VERSION:2.0
PRODID:-//Plone.org//NONSGML plone.app.event//EN
X-WR-TIMEZONE:Europe/Berlin
BEGIN:VEVENT
SUMMARY:politopia-magazin
DTSTART;TZID=Europe/Berlin;VALUE=DATE-TIME:20210728T160000
DTEND;TZID=Europe/Berlin;VALUE=DATE-TIME:20210728T170000
DTSTAMP;VALUE=DATE-TIME:20260425T122852Z
UID:00bda343c36e42e6b2e4942c2977d1dd@politopiamagazin.de
CREATED;VALUE=DATE-TIME:20210608T213300Z
DESCRIPTION:Dada
LAST-MODIFIED;VALUE=DATE-TIME:20210714T185948Z
URL:https://politopiamagazin.de/Members/radio/termine/politopia-magazin-9
END:VEVENT
BEGIN:VTIMEZONE
TZID:Europe/Berlin
X-LIC-LOCATION:Europe/Berlin
BEGIN:DAYLIGHT
DTSTART;VALUE=DATE-TIME:20210328T030000
TZNAME:CEST
TZOFFSETFROM:+0100
TZOFFSETTO:+0200
END:DAYLIGHT
END:VTIMEZONE
END:VCALENDAR
