BEGIN:VCALENDAR
VERSION:2.0
PRODID:-//Plone.org//NONSGML plone.app.event//EN
X-WR-TIMEZONE:Europe/Berlin
BEGIN:VEVENT
SUMMARY:politopia-magazin
DTSTART;TZID=Europe/Berlin;VALUE=DATE-TIME:20230215T160000
DTEND;TZID=Europe/Berlin;VALUE=DATE-TIME:20230215T170000
DTSTAMP;VALUE=DATE-TIME:20260425T060243Z
UID:b5951bb3486a48b1a3b76eeb370f0614@politopiamagazin.de
CREATED;VALUE=DATE-TIME:20230118T233534Z
DESCRIPTION:Michael
LAST-MODIFIED;VALUE=DATE-TIME:20230214T223901Z
URL:https://politopiamagazin.de/Members/radio/termine/politopia-magazin-81
END:VEVENT
BEGIN:VTIMEZONE
TZID:Europe/Berlin
X-LIC-LOCATION:Europe/Berlin
BEGIN:STANDARD
DTSTART;VALUE=DATE-TIME:20221030T020000
TZNAME:CET
TZOFFSETFROM:+0200
TZOFFSETTO:+0100
END:STANDARD
END:VTIMEZONE
END:VCALENDAR
