BEGIN:VCALENDAR
VERSION:2.0
PRODID:-//Plone.org//NONSGML plone.app.event//EN
X-WR-TIMEZONE:Europe/Berlin
BEGIN:VEVENT
SUMMARY:politopia-magazin
DTSTART;TZID=Europe/Berlin;VALUE=DATE-TIME:20230125T160000
DTEND;TZID=Europe/Berlin;VALUE=DATE-TIME:20230125T170000
DTSTAMP;VALUE=DATE-TIME:20260425T060533Z
UID:711882c708c44c4495234252e6225287@politopiamagazin.de
CREATED;VALUE=DATE-TIME:20230118T233150Z
DESCRIPTION:Michael
LAST-MODIFIED;VALUE=DATE-TIME:20230118T233154Z
URL:https://politopiamagazin.de/Members/radio/termine/politopia-magazin-78
END:VEVENT
BEGIN:VTIMEZONE
TZID:Europe/Berlin
X-LIC-LOCATION:Europe/Berlin
BEGIN:STANDARD
DTSTART;VALUE=DATE-TIME:20221030T020000
TZNAME:CET
TZOFFSETFROM:+0200
TZOFFSETTO:+0100
END:STANDARD
END:VTIMEZONE
END:VCALENDAR
