BEGIN:VCALENDAR
VERSION:2.0
PRODID:-//Plone.org//NONSGML plone.app.event//EN
X-WR-TIMEZONE:Europe/Berlin
BEGIN:VEVENT
SUMMARY:politopia-magazin
DTSTART;TZID=Europe/Berlin;VALUE=DATE-TIME:20230104T160000
DTEND;TZID=Europe/Berlin;VALUE=DATE-TIME:20230104T170000
DTSTAMP;VALUE=DATE-TIME:20260425T022754Z
UID:6bc15e4570aa49258eef48f723b920a5@politopiamagazin.de
CREATED;VALUE=DATE-TIME:20221127T171328Z
DESCRIPTION:Dada
LAST-MODIFIED;VALUE=DATE-TIME:20221127T171331Z
URL:https://politopiamagazin.de/Members/radio/termine/politopia-magazin-75
END:VEVENT
BEGIN:VTIMEZONE
TZID:Europe/Berlin
X-LIC-LOCATION:Europe/Berlin
BEGIN:STANDARD
DTSTART;VALUE=DATE-TIME:20221030T020000
TZNAME:CET
TZOFFSETFROM:+0200
TZOFFSETTO:+0100
END:STANDARD
END:VTIMEZONE
END:VCALENDAR
