BEGIN:VCALENDAR
VERSION:2.0
PRODID:-//Plone.org//NONSGML plone.app.event//EN
X-WR-TIMEZONE:Europe/Berlin
BEGIN:VEVENT
SUMMARY:politopia-magazin
DTSTART;TZID=Europe/Berlin;VALUE=DATE-TIME:20220831T160000
DTEND;TZID=Europe/Berlin;VALUE=DATE-TIME:20220831T170000
DTSTAMP;VALUE=DATE-TIME:20260424T072740Z
UID:5d162dd4127b49fbb6efcd6214f64de5@politopiamagazin.de
CREATED;VALUE=DATE-TIME:20220828T181526Z
DESCRIPTION:Michael
LAST-MODIFIED;VALUE=DATE-TIME:20220828T181552Z
URL:https://politopiamagazin.de/Members/radio/termine/politopia-magazin-58
END:VEVENT
BEGIN:VTIMEZONE
TZID:Europe/Berlin
X-LIC-LOCATION:Europe/Berlin
BEGIN:DAYLIGHT
DTSTART;VALUE=DATE-TIME:20220327T030000
TZNAME:CEST
TZOFFSETFROM:+0100
TZOFFSETTO:+0200
END:DAYLIGHT
END:VTIMEZONE
END:VCALENDAR
