BEGIN:VCALENDAR
VERSION:2.0
PRODID:-//Plone.org//NONSGML plone.app.event//EN
X-WR-TIMEZONE:Europe/Berlin
BEGIN:VEVENT
SUMMARY:politopia-magazin
DTSTART;TZID=Europe/Berlin;VALUE=DATE-TIME:20260520T160000
DTEND;TZID=Europe/Berlin;VALUE=DATE-TIME:20260520T170000
DTSTAMP;VALUE=DATE-TIME:20260421T040458Z
UID:6ee9e0d71f4f401d8d89792de487228e@politopiamagazin.de
CREATED;VALUE=DATE-TIME:20260420T221602Z
DESCRIPTION:da
LAST-MODIFIED;VALUE=DATE-TIME:20260420T221609Z
URL:https://politopiamagazin.de/Members/radio/termine/politopia-magazin-17
 76723362.286741
END:VEVENT
BEGIN:VTIMEZONE
TZID:Europe/Berlin
X-LIC-LOCATION:Europe/Berlin
BEGIN:DAYLIGHT
DTSTART;VALUE=DATE-TIME:20260329T030000
TZNAME:CEST
TZOFFSETFROM:+0100
TZOFFSETTO:+0200
END:DAYLIGHT
END:VTIMEZONE
END:VCALENDAR
