BEGIN:VCALENDAR
VERSION:2.0
PRODID:-//Plone.org//NONSGML plone.app.event//EN
X-WR-TIMEZONE:Europe/Berlin
BEGIN:VEVENT
SUMMARY:politopia-magazin
DTSTART;TZID=Europe/Berlin;VALUE=DATE-TIME:20260513T160000
DTEND;TZID=Europe/Berlin;VALUE=DATE-TIME:20260513T170000
DTSTAMP;VALUE=DATE-TIME:20260421T040736Z
UID:4769c47d2490464ea316b54454d32d4b@politopiamagazin.de
CREATED;VALUE=DATE-TIME:20260420T221517Z
DESCRIPTION:mi
LAST-MODIFIED;VALUE=DATE-TIME:20260420T221524Z
URL:https://politopiamagazin.de/Members/radio/termine/politopia-magazin-17
 76723317.5146515
END:VEVENT
BEGIN:VTIMEZONE
TZID:Europe/Berlin
X-LIC-LOCATION:Europe/Berlin
BEGIN:DAYLIGHT
DTSTART;VALUE=DATE-TIME:20260329T030000
TZNAME:CEST
TZOFFSETFROM:+0100
TZOFFSETTO:+0200
END:DAYLIGHT
END:VTIMEZONE
END:VCALENDAR
