BEGIN:VCALENDAR
VERSION:2.0
PRODID:-//Plone.org//NONSGML plone.app.event//EN
X-WR-TIMEZONE:Europe/Berlin
BEGIN:VEVENT
SUMMARY:politopia-magazin
DTSTART;TZID=Europe/Berlin;VALUE=DATE-TIME:20260121T160000
DTEND;TZID=Europe/Berlin;VALUE=DATE-TIME:20260121T170000
DTSTAMP;VALUE=DATE-TIME:20260425T060406Z
UID:05752de9d52b4eacb770aa6d0af0635e@politopiamagazin.de
CREATED;VALUE=DATE-TIME:20260111T224504Z
DESCRIPTION:da
LAST-MODIFIED;VALUE=DATE-TIME:20260111T224511Z
URL:https://politopiamagazin.de/Members/radio/termine/politopia-magazin-17
 68171505.2886915
END:VEVENT
BEGIN:VTIMEZONE
TZID:Europe/Berlin
X-LIC-LOCATION:Europe/Berlin
BEGIN:STANDARD
DTSTART;VALUE=DATE-TIME:20251026T020000
TZNAME:CET
TZOFFSETFROM:+0200
TZOFFSETTO:+0100
END:STANDARD
END:VTIMEZONE
END:VCALENDAR
