BEGIN:VCALENDAR
VERSION:2.0
PRODID:-//Plone.org//NONSGML plone.app.event//EN
X-WR-TIMEZONE:Europe/Berlin
BEGIN:VEVENT
SUMMARY:politopia-magazin
DTSTART;TZID=Europe/Berlin;VALUE=DATE-TIME:20240403T160000
DTEND;TZID=Europe/Berlin;VALUE=DATE-TIME:20240403T170000
DTSTAMP;VALUE=DATE-TIME:20260424T072505Z
UID:e83912b923fc40358444f871267e8bb8@politopiamagazin.de
CREATED;VALUE=DATE-TIME:20240327T003903Z
DESCRIPTION:da
LAST-MODIFIED;VALUE=DATE-TIME:20240327T003907Z
URL:https://politopiamagazin.de/Members/radio/termine/politopia-magazin-17
 11499943.9867873
END:VEVENT
BEGIN:VTIMEZONE
TZID:Europe/Berlin
X-LIC-LOCATION:Europe/Berlin
BEGIN:DAYLIGHT
DTSTART;VALUE=DATE-TIME:20240331T030000
TZNAME:CEST
TZOFFSETFROM:+0100
TZOFFSETTO:+0200
END:DAYLIGHT
END:VTIMEZONE
END:VCALENDAR
