BEGIN:VCALENDAR
VERSION:2.0
PRODID:-//Plone.org//NONSGML plone.app.event//EN
X-WR-TIMEZONE:Europe/Berlin
BEGIN:VEVENT
SUMMARY:politopia-magazin
DTSTART;TZID=Europe/Berlin;VALUE=DATE-TIME:20240103T160000
DTEND;TZID=Europe/Berlin;VALUE=DATE-TIME:20240103T170000
DTSTAMP;VALUE=DATE-TIME:20260425T123119Z
UID:e20c826f8f144ad9800e80ec34536603@politopiamagazin.de
CREATED;VALUE=DATE-TIME:20231215T010351Z
DESCRIPTION:da
LAST-MODIFIED;VALUE=DATE-TIME:20231215T010355Z
URL:https://politopiamagazin.de/Members/radio/termine/politopia-magazin-17
 02602231.9840305
END:VEVENT
BEGIN:VTIMEZONE
TZID:Europe/Berlin
X-LIC-LOCATION:Europe/Berlin
BEGIN:STANDARD
DTSTART;VALUE=DATE-TIME:20231029T020000
TZNAME:CET
TZOFFSETFROM:+0200
TZOFFSETTO:+0100
END:STANDARD
END:VTIMEZONE
END:VCALENDAR
