BEGIN:VCALENDAR
VERSION:2.0
PRODID:-//Plone.org//NONSGML plone.app.event//EN
X-WR-TIMEZONE:Europe/Berlin
BEGIN:VEVENT
SUMMARY:politopia-magazin
DTSTART;TZID=Europe/Berlin;VALUE=DATE-TIME:20230802T160000
DTEND;TZID=Europe/Berlin;VALUE=DATE-TIME:20230802T170000
DTSTAMP;VALUE=DATE-TIME:20260425T060014Z
UID:a3f3f795f73d4fb19fc88278b8c25282@politopiamagazin.de
CREATED;VALUE=DATE-TIME:20230629T144202Z
DESCRIPTION:da
LAST-MODIFIED;VALUE=DATE-TIME:20230629T144206Z
URL:https://politopiamagazin.de/Members/radio/termine/politopia-magazin-16
 88049722.5994792
END:VEVENT
BEGIN:VTIMEZONE
TZID:Europe/Berlin
X-LIC-LOCATION:Europe/Berlin
BEGIN:DAYLIGHT
DTSTART;VALUE=DATE-TIME:20230326T030000
TZNAME:CEST
TZOFFSETFROM:+0100
TZOFFSETTO:+0200
END:DAYLIGHT
END:VTIMEZONE
END:VCALENDAR
