BEGIN:VCALENDAR
VERSION:2.0
PRODID:-//Plone.org//NONSGML plone.app.event//EN
X-WR-TIMEZONE:Europe/Berlin
BEGIN:VEVENT
SUMMARY:politopia-magazin
DTSTART;TZID=Europe/Berlin;VALUE=DATE-TIME:20230705T160000
DTEND;TZID=Europe/Berlin;VALUE=DATE-TIME:20230705T170000
DTSTAMP;VALUE=DATE-TIME:20260425T123031Z
UID:679308f5674845aa8caf25e61de552fb@politopiamagazin.de
CREATED;VALUE=DATE-TIME:20230531T150455Z
DESCRIPTION:mi\, ha
LAST-MODIFIED;VALUE=DATE-TIME:20230629T143801Z
URL:https://politopiamagazin.de/Members/radio/termine/politopia-magazin-16
 85545495.3766034
END:VEVENT
BEGIN:VTIMEZONE
TZID:Europe/Berlin
X-LIC-LOCATION:Europe/Berlin
BEGIN:DAYLIGHT
DTSTART;VALUE=DATE-TIME:20230326T030000
TZNAME:CEST
TZOFFSETFROM:+0100
TZOFFSETTO:+0200
END:DAYLIGHT
END:VTIMEZONE
END:VCALENDAR
